BEGIN:VCALENDAR
VERSION:2.0
PRODID:-//Beekeeper Group - ECPv6.15.17.1//NONSGML v1.0//EN
CALSCALE:GREGORIAN
METHOD:PUBLISH
X-WR-CALNAME:Beekeeper Group
X-ORIGINAL-URL:https://staging.beekeepergroup.com
X-WR-CALDESC:Events for Beekeeper Group
REFRESH-INTERVAL;VALUE=DURATION:PT1H
X-Robots-Tag:noindex
X-PUBLISHED-TTL:PT1H
BEGIN:VTIMEZONE
TZID:America/New_York
BEGIN:DAYLIGHT
TZOFFSETFROM:-0500
TZOFFSETTO:-0400
TZNAME:EDT
DTSTART:20250309T070000
END:DAYLIGHT
BEGIN:STANDARD
TZOFFSETFROM:-0400
TZOFFSETTO:-0500
TZNAME:EST
DTSTART:20251102T060000
END:STANDARD
BEGIN:DAYLIGHT
TZOFFSETFROM:-0500
TZOFFSETTO:-0400
TZNAME:EDT
DTSTART:20260308T070000
END:DAYLIGHT
BEGIN:STANDARD
TZOFFSETFROM:-0400
TZOFFSETTO:-0500
TZNAME:EST
DTSTART:20261101T060000
END:STANDARD
BEGIN:DAYLIGHT
TZOFFSETFROM:-0500
TZOFFSETTO:-0400
TZNAME:EDT
DTSTART:20270314T070000
END:DAYLIGHT
BEGIN:STANDARD
TZOFFSETFROM:-0400
TZOFFSETTO:-0500
TZNAME:EST
DTSTART:20271107T060000
END:STANDARD
END:VTIMEZONE
BEGIN:VEVENT
DTSTART;TZID=America/New_York:20260121T180000
DTEND;TZID=America/New_York:20260121T200000
DTSTAMP:20260422T071137
CREATED:20260106T211443Z
LAST-MODIFIED:20260126T203425Z
UID:10000014-1769018400-1769025600@staging.beekeepergroup.com
SUMMARY:Winter Mixer: Welcoming Lauren Tyler to Beekeeper Group
DESCRIPTION:Please join us on January 21st at Proper Bar for a Winter Mixer.\n\n\n\nBeekeeper Group couldn’t be happier to kick off 2026 by welcoming Lauren Tyler to the Hive. To celebrate her arrival\, ring in the new year\, and connect with public affairs professionals before the National Advocacy Conference\, we’re hosting an evening of drinks\, bites\, and great conversation at Proper Bar. \nWhether you’re a longtime connection of Lauren’s or a Friend of the Hive\, we’d love to have you join us. \nWhen: Wednesday\, January 21st | 6:00 PM – 8:00 PM \nWhere: Proper Bar \nWhat to expect: Open bar\, light bites\, and quality conversation \nSpace is limited\, so please RSVP by January 16th. We can’t wait to see you there!
URL:https://staging.beekeepergroup.com/event/winter-mixer-welcoming-lauren-tyler-to-beekeeper-group/
LOCATION:Proper Bar\, 300 K Street Northwest\, Washington\, DC\, 20001\, United States
CATEGORIES:Hosted Events
ATTACH;FMTTYPE=image/png:https://staging.beekeepergroup.com/wp-content/uploads/2026/01/hive-five-graphics-2.png
END:VEVENT
END:VCALENDAR